BEGIN:VCALENDAR
VERSION:2.0
PRODID:-//Kleing&auml;rtnerverein Elze e.V. - ECPv6.15.20//NONSGML v1.0//EN
CALSCALE:GREGORIAN
METHOD:PUBLISH
X-ORIGINAL-URL:http://www.kleingarten-elze-leine.de
X-WR-CALDESC:Veranstaltungen für Kleing&auml;rtnerverein Elze e.V.
REFRESH-INTERVAL;VALUE=DURATION:PT1H
X-Robots-Tag:noindex
X-PUBLISHED-TTL:PT1H
BEGIN:VTIMEZONE
TZID:UTC
BEGIN:STANDARD
TZOFFSETFROM:+0000
TZOFFSETTO:+0000
TZNAME:UTC
DTSTART:20230101T000000
END:STANDARD
END:VTIMEZONE
BEGIN:VEVENT
DTSTART;TZID=UTC:20240608T090000
DTEND;TZID=UTC:20240608T130000
DTSTAMP:20260422T000844
CREATED:20240312T103835Z
LAST-MODIFIED:20240312T103835Z
UID:2632-1717837200-1717851600@www.kleingarten-elze-leine.de
SUMMARY:Arbeitsstunden von 9 bis 13 Uhr (bitte die Informationen auf der Homepage beachten)!
DESCRIPTION:Ansprechpartner ist Alwin Meyer!
URL:http://www.kleingarten-elze-leine.de/event/arbeitsstunden-von-9-bis-13-uhr-bitte-die-informationen-auf-der-homepage-beachten-5/
END:VEVENT
BEGIN:VEVENT
DTSTART;TZID=UTC:20240615T100000
DTEND;TZID=UTC:20240615T170000
DTSTAMP:20260422T000844
CREATED:20240312T095209Z
LAST-MODIFIED:20240515T092700Z
UID:2591-1718445600-1718470800@www.kleingarten-elze-leine.de
SUMMARY:Flohmarkt
DESCRIPTION:Für Kinder bis 12 Jahre\, die Ihre Ware auf einer Decke anbieten\, wird keine Standgebühr erhoben. Für alle anderen Teilnehmer*innen Standgebühr gegen Spende. Der Verein bietet Kaffee (und andere Getränke)\, Kuchen und Gegrilltes an. Hinweis: Keine Neuware!
URL:http://www.kleingarten-elze-leine.de/event/flohmarkt/
ORGANIZER;CN="KGV Elze e.V.":MAILTO:kgv.elze@gmx.de
END:VEVENT
BEGIN:VEVENT
DTSTART;TZID=UTC:20240622T090000
DTEND;TZID=UTC:20240622T130000
DTSTAMP:20260422T000844
CREATED:20240312T103912Z
LAST-MODIFIED:20240312T103912Z
UID:2634-1719046800-1719061200@www.kleingarten-elze-leine.de
SUMMARY:Arbeitsstunden von 9 bis 13 Uhr (bitte die Informationen auf der Homepage beachten)!
DESCRIPTION:Ansprechpartner ist Alwin Meyer!
URL:http://www.kleingarten-elze-leine.de/event/arbeitsstunden-von-9-bis-13-uhr-bitte-die-informationen-auf-der-homepage-beachten-6/
END:VEVENT
BEGIN:VEVENT
DTSTART;TZID=UTC:20240629T160000
DTEND;TZID=UTC:20240629T210000
DTSTAMP:20260422T000844
CREATED:20240626T155419Z
LAST-MODIFIED:20240626T155419Z
UID:2930-1719676800-1719694800@www.kleingarten-elze-leine.de
SUMMARY:Wegefest im Weg 4
DESCRIPTION:Wegefest für die Pächter*innen des Weges 4. Jeder bringt etwas mit\, Abstimmung in der entsprechenden Wegefest-Gruppe\, Rückfragen bitte an Ina Marquardt 0170 84 88 233!
URL:http://www.kleingarten-elze-leine.de/event/wegefest-im-weg-4/
END:VEVENT
END:VCALENDAR