BEGIN:VCALENDAR
VERSION:2.0
PRODID:-//Kleing&auml;rtnerverein Elze e.V. - ECPv6.15.20//NONSGML v1.0//EN
CALSCALE:GREGORIAN
METHOD:PUBLISH
X-ORIGINAL-URL:http://www.kleingarten-elze-leine.de
X-WR-CALDESC:Veranstaltungen für Kleing&auml;rtnerverein Elze e.V.
REFRESH-INTERVAL;VALUE=DURATION:PT1H
X-Robots-Tag:noindex
X-PUBLISHED-TTL:PT1H
BEGIN:VTIMEZONE
TZID:UTC
BEGIN:STANDARD
TZOFFSETFROM:+0000
TZOFFSETTO:+0000
TZNAME:UTC
DTSTART:20230101T000000
END:STANDARD
END:VTIMEZONE
BEGIN:VEVENT
DTSTART;TZID=UTC:20240511T090000
DTEND;TZID=UTC:20240511T130000
DTSTAMP:20260422T013957
CREATED:20240312T103612Z
LAST-MODIFIED:20240312T103612Z
UID:2628-1715418000-1715432400@www.kleingarten-elze-leine.de
SUMMARY:Arbeitsstunden von 9 bis 13 Uhr (bitte die Informationen auf der Homepage beachten)!
DESCRIPTION:Ansprechpartner ist Alwin Meyer!
URL:http://www.kleingarten-elze-leine.de/event/arbeitsstunden-von-9-bis-13-uhr-bitte-die-informationen-auf-der-homepage-beachten-3/
END:VEVENT
BEGIN:VEVENT
DTSTART;TZID=UTC:20240525T090000
DTEND;TZID=UTC:20240525T130000
DTSTAMP:20260422T013957
CREATED:20240312T103718Z
LAST-MODIFIED:20240312T103718Z
UID:2630-1716627600-1716642000@www.kleingarten-elze-leine.de
SUMMARY:Arbeitsstunden von 9 bis 13 Uhr (bitte die Informationen auf der Homepage beachten)!
DESCRIPTION:Ansprechpartner ist Alwin Meyer!
URL:http://www.kleingarten-elze-leine.de/event/arbeitsstunden-von-9-bis-13-uhr-bitte-die-informationen-auf-der-homepage-beachten-4/
END:VEVENT
END:VCALENDAR