BEGIN:VCALENDAR
VERSION:2.0
PRODID:-//Kleing&auml;rtnerverein Elze e.V. - ECPv6.15.20//NONSGML v1.0//EN
CALSCALE:GREGORIAN
METHOD:PUBLISH
X-ORIGINAL-URL:http://www.kleingarten-elze-leine.de
X-WR-CALDESC:Veranstaltungen für Kleing&auml;rtnerverein Elze e.V.
REFRESH-INTERVAL;VALUE=DURATION:PT1H
X-Robots-Tag:noindex
X-PUBLISHED-TTL:PT1H
BEGIN:VTIMEZONE
TZID:UTC
BEGIN:STANDARD
TZOFFSETFROM:+0000
TZOFFSETTO:+0000
TZNAME:UTC
DTSTART:20230101T000000
END:STANDARD
END:VTIMEZONE
BEGIN:VEVENT
DTSTART;TZID=UTC:20241012T090000
DTEND;TZID=UTC:20241012T130000
DTSTAMP:20260421T192240
CREATED:20240312T104844Z
LAST-MODIFIED:20240312T104844Z
UID:2649-1728723600-1728738000@www.kleingarten-elze-leine.de
SUMMARY:Arbeitsstunden von 9 bis 13 Uhr (bitte die Informationen auf der Homepage beachten)!
DESCRIPTION:Ansprechpartner ist Alwin Meyer!
URL:http://www.kleingarten-elze-leine.de/event/arbeitsstunden-von-9-bis-13-uhr-bitte-die-informationen-auf-der-homepage-beachten-13/
END:VEVENT
END:VCALENDAR