BEGIN:VCALENDAR
VERSION:2.0
PRODID:-//Kleing&auml;rtnerverein Elze e.V. - ECPv6.15.20//NONSGML v1.0//EN
CALSCALE:GREGORIAN
METHOD:PUBLISH
X-WR-CALNAME:Kleing&auml;rtnerverein Elze e.V.
X-ORIGINAL-URL:http://www.kleingarten-elze-leine.de
X-WR-CALDESC:Veranstaltungen für Kleing&auml;rtnerverein Elze e.V.
REFRESH-INTERVAL;VALUE=DURATION:PT1H
X-Robots-Tag:noindex
X-PUBLISHED-TTL:PT1H
BEGIN:VTIMEZONE
TZID:UTC
BEGIN:STANDARD
TZOFFSETFROM:+0000
TZOFFSETTO:+0000
TZNAME:UTC
DTSTART:20230101T000000
END:STANDARD
END:VTIMEZONE
BEGIN:VEVENT
DTSTART;TZID=UTC:20241005T150000
DTEND;TZID=UTC:20241005T170000
DTSTAMP:20260421T192040
CREATED:20240811T152646Z
LAST-MODIFIED:20240811T152646Z
UID:3137-1728140400-1728147600@www.kleingarten-elze-leine.de
SUMMARY:Ordentliche Mitgliederversammlung am 05.10.24 ab 15 Uhr in der Pergola
DESCRIPTION:
URL:http://www.kleingarten-elze-leine.de/event/ordentliche-mitgliederversammlung-am-05-10-24-ab-15-uhr-in-der-pergola/
LOCATION:Pergola\, Schmiedetorstraße 59\, 31008 Elze\, Niedersachsen\, Deutschland
ORGANIZER;CN="KGV Elze e.V.":MAILTO:kgv.elze@gmx.de
END:VEVENT
END:VCALENDAR