BEGIN:VCALENDAR
VERSION:2.0
PRODID:-//Kleing&auml;rtnerverein Elze e.V. - ECPv6.15.20//NONSGML v1.0//EN
CALSCALE:GREGORIAN
METHOD:PUBLISH
X-WR-CALNAME:Kleing&auml;rtnerverein Elze e.V.
X-ORIGINAL-URL:http://www.kleingarten-elze-leine.de
X-WR-CALDESC:Veranstaltungen für Kleing&auml;rtnerverein Elze e.V.
REFRESH-INTERVAL;VALUE=DURATION:PT1H
X-Robots-Tag:noindex
X-PUBLISHED-TTL:PT1H
BEGIN:VTIMEZONE
TZID:UTC
BEGIN:STANDARD
TZOFFSETFROM:+0000
TZOFFSETTO:+0000
TZNAME:UTC
DTSTART:20230101T000000
END:STANDARD
END:VTIMEZONE
BEGIN:VEVENT
DTSTART;TZID=UTC:20240727T090000
DTEND;TZID=UTC:20240727T130000
DTSTAMP:20260422T001020
CREATED:20240312T104202Z
LAST-MODIFIED:20240312T104202Z
UID:2638-1722070800-1722085200@www.kleingarten-elze-leine.de
SUMMARY:Arbeitsstunden von 9 bis 13 Uhr (bitte die Informationen auf der Homepage beachten)!
DESCRIPTION:Ansprechpartner ist Alwin Meyer!
URL:http://www.kleingarten-elze-leine.de/event/arbeitsstunden-von-9-bis-13-uhr-bitte-die-informationen-auf-der-homepage-beachten-8/
END:VEVENT
END:VCALENDAR