BEGIN:VCALENDAR
VERSION:2.0
PRODID:-//Kleing&auml;rtnerverein Elze e.V. - ECPv6.15.20//NONSGML v1.0//EN
CALSCALE:GREGORIAN
METHOD:PUBLISH
X-WR-CALNAME:Kleing&auml;rtnerverein Elze e.V.
X-ORIGINAL-URL:http://www.kleingarten-elze-leine.de
X-WR-CALDESC:Veranstaltungen für Kleing&auml;rtnerverein Elze e.V.
REFRESH-INTERVAL;VALUE=DURATION:PT1H
X-Robots-Tag:noindex
X-PUBLISHED-TTL:PT1H
BEGIN:VTIMEZONE
TZID:UTC
BEGIN:STANDARD
TZOFFSETFROM:+0000
TZOFFSETTO:+0000
TZNAME:UTC
DTSTART:20230101T000000
END:STANDARD
END:VTIMEZONE
BEGIN:VEVENT
DTSTART;TZID=UTC:20240323T130000
DTEND;TZID=UTC:20240323T170000
DTSTAMP:20260422T055818
CREATED:20240206T090605Z
LAST-MODIFIED:20240312T100447Z
UID:1606-1711198800-1711213200@www.kleingarten-elze-leine.de
SUMMARY:Osterverkauf
DESCRIPTION:Verkauf von Osterartikeln\, die von den Mitgliedern selbst hergestellt worden sind. Es wird Kaffee und Kuchen angeboten. Wir freuen und auf Ihren Besuch!
URL:http://www.kleingarten-elze-leine.de/event/osterverkauf-details-dazu-folgen-noch-ueber-die-presse-und-ueber-die-homepage/
END:VEVENT
END:VCALENDAR