BEGIN:VCALENDAR
VERSION:2.0
PRODID:-//Kleing&auml;rtnerverein Elze e.V. - ECPv6.15.20//NONSGML v1.0//EN
CALSCALE:GREGORIAN
METHOD:PUBLISH
X-WR-CALNAME:Kleing&auml;rtnerverein Elze e.V.
X-ORIGINAL-URL:http://www.kleingarten-elze-leine.de
X-WR-CALDESC:Veranstaltungen für Kleing&auml;rtnerverein Elze e.V.
REFRESH-INTERVAL;VALUE=DURATION:PT1H
X-Robots-Tag:noindex
X-PUBLISHED-TTL:PT1H
BEGIN:VTIMEZONE
TZID:Europe/Berlin
BEGIN:DAYLIGHT
TZOFFSETFROM:+0100
TZOFFSETTO:+0200
TZNAME:CEST
DTSTART:20230326T010000
END:DAYLIGHT
BEGIN:STANDARD
TZOFFSETFROM:+0200
TZOFFSETTO:+0100
TZNAME:CET
DTSTART:20231029T010000
END:STANDARD
BEGIN:DAYLIGHT
TZOFFSETFROM:+0100
TZOFFSETTO:+0200
TZNAME:CEST
DTSTART:20240331T010000
END:DAYLIGHT
BEGIN:STANDARD
TZOFFSETFROM:+0200
TZOFFSETTO:+0100
TZNAME:CET
DTSTART:20241027T010000
END:STANDARD
BEGIN:DAYLIGHT
TZOFFSETFROM:+0100
TZOFFSETTO:+0200
TZNAME:CEST
DTSTART:20250330T010000
END:DAYLIGHT
BEGIN:STANDARD
TZOFFSETFROM:+0200
TZOFFSETTO:+0100
TZNAME:CET
DTSTART:20251026T010000
END:STANDARD
END:VTIMEZONE
BEGIN:VEVENT
DTSTART;TZID=Europe/Berlin:20240217T140000
DTEND;TZID=Europe/Berlin:20240217T200000
DTSTAMP:20260422T072629
CREATED:20231031T113641Z
LAST-MODIFIED:20231211T184222Z
UID:566-1708178400-1708200000@www.kleingarten-elze-leine.de
SUMMARY:Braunkohlwanderung
DESCRIPTION:Wir starten um 14 Uhr von der Pergola\, gegessen wird um 17 Uhr im Hotel Cafe Papenhof bei Schorse Bräuer. Bitte beachten Sie den Beitrag auf unserer Homepage! \n  \n 
URL:http://www.kleingarten-elze-leine.de/event/braunkohlwanderung/
LOCATION:Cafe Papenhof\, Elze\, Niedersachsen\, 31008\, Deutschland
ORGANIZER;CN="KGV Elze e.V.":MAILTO:kgv.elze@gmx.de
END:VEVENT
END:VCALENDAR