BEGIN:VCALENDAR
VERSION:2.0
PRODID:-//Kleing&auml;rtnerverein Elze e.V. - ECPv6.15.20//NONSGML v1.0//EN
CALSCALE:GREGORIAN
METHOD:PUBLISH
X-ORIGINAL-URL:http://www.kleingarten-elze-leine.de
X-WR-CALDESC:Veranstaltungen für Kleing&auml;rtnerverein Elze e.V.
REFRESH-INTERVAL;VALUE=DURATION:PT1H
X-Robots-Tag:noindex
X-PUBLISHED-TTL:PT1H
BEGIN:VTIMEZONE
TZID:UTC
BEGIN:STANDARD
TZOFFSETFROM:+0000
TZOFFSETTO:+0000
TZNAME:UTC
DTSTART:20220101T000000
END:STANDARD
END:VTIMEZONE
BEGIN:VEVENT
DTSTART;TZID=UTC:20231013T180000
DTEND;TZID=UTC:20231013T183000
DTSTAMP:20260422T130938
CREATED:20231003T152619Z
LAST-MODIFIED:20231003T152619Z
UID:94-1697220000-1697221800@www.kleingarten-elze-leine.de
SUMMARY:Sprechstunde des Vorstandes
DESCRIPTION:In der Pergola. \nEs können vereinsbezogene Themen besprochen werden
URL:http://www.kleingarten-elze-leine.de/event/sprechstunde-des-vorstandes/
END:VEVENT
END:VCALENDAR